BEGIN:VCALENDAR
VERSION:2.0
PRODID:-//Alles is gezondheid - ECPv5.12.4//NONSGML v1.0//EN
CALSCALE:GREGORIAN
METHOD:PUBLISH
X-WR-CALNAME:Alles is gezondheid
X-ORIGINAL-URL:https://www.allesisgezondheid.nl
X-WR-CALDESC:Evenementen voor Alles is gezondheid
BEGIN:VTIMEZONE
TZID:Europe/Amsterdam
BEGIN:DAYLIGHT
TZOFFSETFROM:+0100
TZOFFSETTO:+0200
TZNAME:CEST
DTSTART:20240331T010000
END:DAYLIGHT
BEGIN:STANDARD
TZOFFSETFROM:+0200
TZOFFSETTO:+0100
TZNAME:CET
DTSTART:20241027T010000
END:STANDARD
END:VTIMEZONE
BEGIN:VEVENT
DTSTART;TZID=Europe/Amsterdam:20241210T113000
DTEND;TZID=Europe/Amsterdam:20241210T121500
DTSTAMP:20260420T165824
CREATED:20241122T114817Z
LAST-MODIFIED:20241122T122501Z
UID:7614282-1733830200-1733832900@www.allesisgezondheid.nl
SUMMARY:Webinarreeks ‘(Positieve) gezondheid\, zorg en sociale arrangementen’: Gezond werken
DESCRIPTION:Op dinsdag 10 december 2024 organiseren we het laatste webinar in de webinarreeks ‘(Positieve) gezondheid\, zorg en sociale arrangementen’. In de afgelopen twee jaar hebben we actuele maatschappelijke thema’s behandeld die invloed hebben op de duurzame inzetbaarheid van medewerkers zoals: mantelzorg\, financiële fitheid\, chronische ziekte en rouw. Aandacht voor deze thema’s draagt bij aan een beter duurzaam inzetbaarheidsbeleid en kan leiden tot minder verzuim en/of uitval. \nIn dit laatste webinar bespreken we de ontwikkelingen op het gebied van gezond werken met de volgende experts: \n\nGuido Welter\, directeur van het Nationaal Platform Duurzame Inzetbaarheid (NPDI)\nPiet Vessies\, adviseur bedrijven en gezondheid Alles is Gezondheid\nMarjolijn Olde Monnikhof\, directeur-bestuurder Stichting CAOP\n\nOver de sprekers\nGuido Welter deelt de vijf succesfactoren van duurzame inzetbaarheid vanuit het NPDI. Wat kunnen organisaties leren van bedrijven die in deze afgelopen jaren hebben meegedaan aan bijvoorbeeld de ‘Kroon op het werk’-prijs? Hoe duurzaam is het duurzame inzetbaarheidsbeleid geweest bij deze bedrijven? Daarnaast geeft Guido een uitleg over de KOBA-DI tool\, waarmee organisaties snel inzicht krijgen in de kosten en baten van investeringen in duurzaamheid. \nPiet Vessies van Alles is Gezondheid gaat aan de hand van praktijkvoorbeelden dieper in op de aanpak van positieve gezondheid binnen organisaties. Gezondheid wordt vaak gezien als de afwezigheid van ziekte. Positieve gezondheid benadert het breder: gezond ben je wanneer je met de fysieke\, emotionele en sociale uitdagingen van het leven om kunt gaan. Positieve gezondheid is geen einddoel\, maar een manier om het gesprek over gezondheid mee te voeren. \nWe kijken vervolgens naar de toekomst. Samen met Guido en Piet geeft Marjolijn haar visie vanuit Stichting CAOP. Waar kunnen – of misschien wel moeten – organisaties in hun beleid de komende jaren rekening mee houden? En hoe kunnen werkgevers hierbij geholpen worden? \nWat kun je verwachten?\nTijdens het webinar bespreken we de veranderingen rondom duurzame inzetbaarheid van de afgelopen jaren. Hoe zien de gasten aan tafel deze veranderingen? Wat is volgens hen nodig om het een goed beleid voor duurzame inzetbaarheid te ontwikkelen? En welke toekomstige trends en ontwikkelingen zien zij? \nPraktische informatie en aanmelden\nHet webinar vindt plaats op dinsdag 10 december\, van 11.30-12.15 uur en is het laatste in de reeks genaamd ‘(Positieve) gezondheid\, zorg en sociale arrangementen’. Meld je aan via onderstaande knop.
URL:https://www.allesisgezondheid.nl/evenementen/webinarreeks-positieve-gezondheid-zorg-en-sociale-arrangementen-gezond-werken/
LOCATION:Online
CATEGORIES:Online
ATTACH;FMTTYPE=image/jpeg:https://www.allesisgezondheid.nl/wp-content/uploads/2024/11/brooke-cagle-NoRsyXmHGpI-unsplash.jpg
END:VEVENT
END:VCALENDAR