BEGIN:VCALENDAR
VERSION:2.0
PRODID:-//Alles is gezondheid - ECPv5.12.4//NONSGML v1.0//EN
CALSCALE:GREGORIAN
METHOD:PUBLISH
X-WR-CALNAME:Alles is gezondheid
X-ORIGINAL-URL:https://www.allesisgezondheid.nl
X-WR-CALDESC:Evenementen voor Alles is gezondheid
BEGIN:VTIMEZONE
TZID:Europe/Amsterdam
BEGIN:DAYLIGHT
TZOFFSETFROM:+0100
TZOFFSETTO:+0200
TZNAME:CEST
DTSTART:20260329T010000
END:DAYLIGHT
BEGIN:STANDARD
TZOFFSETFROM:+0200
TZOFFSETTO:+0100
TZNAME:CET
DTSTART:20261025T010000
END:STANDARD
END:VTIMEZONE
BEGIN:VEVENT
DTSTART;VALUE=DATE:20260119
DTEND;VALUE=DATE:20260120
DTSTAMP:20260421T160502
CREATED:20251121T084323Z
LAST-MODIFIED:20260116T205458Z
UID:8736963-1768780800-1768867199@www.allesisgezondheid.nl
SUMMARY:Van Blauw naar Groen - wandel of fiets mee tijdens Blue Monday
DESCRIPTION:Maandag 19 januari 2026 is het weer Blue Monday. Vaak genoemd als meest deprimerende dag van het jaar. Gelukkig is er een eenvoudige manier om deze dag anders te beleven en er een positieve draai aan te geven: door te bewegen in de natuur. \nDe laatste jaren is er steeds meer bewijs dat regelmatig bewegen in de natuur goed is voor onze mentale gezondheid. Zo zorgt het voor minder stress\, meer ontspanning\, meer energie\, betere concentratie\, meer creativiteit en een betere slaap. \nDaarom roepen we samen met andere organisaties iedereen op om op Blue Monday de natuur in te gaan. Een wandeling met of zonder gids\, een fietstocht\, de natuur prikkelt je zintuigen en geeft je mentale gezondheid een boost. \nGa naar buiten\, neem deel aan een van de lokale of landelijke activiteiten en gebruik de hashtag #vanblauwnaargroen om je ervaring te delen op social media en anderen te inspireren om ook meer de natuur in te gaan voor een betere mentale gezondheid. \nBEKIJK ALLE ACTIVITEITEN \nPartners\nVan Blauw naar Groen is een initiatief van Alles is Gezondheid\, Staatsbosbeheer\, Wandelcoaches.nl\, Gezond Natuur Wandelen\, Fietsmaatjes en de Beweegalliantie en wordt ondersteund door diverse partners waaronder Nature for Health\, Groene GGZ\, Antropia\, Me You We Do\, Hersenstichting-Ommetje\, expertisecentrum Groen\, Gemeente Amersfoort\, Arcadis\, Walk of Life\, Gewoon Buiten\, Wandelnet\, Fietssport\, Aaf on wheels\, JOGG\, IVN Natuureducatie\, Basis in Beweging\, Natuurmonumenten en @ease. \nMeedoen als partner? Neem contact op.
URL:https://www.allesisgezondheid.nl/evenementen/van-blauw-naar-groen-wandel-mee-tijdens-blue-monday/
CATEGORIES:Buiten
ATTACH;FMTTYPE=image/jpeg:https://www.allesisgezondheid.nl/wp-content/uploads/2025/11/Mock-up-Dame-01-scaled.jpg
END:VEVENT
END:VCALENDAR