BEGIN:VCALENDAR
VERSION:2.0
PRODID:-//Alles is gezondheid - ECPv5.12.4//NONSGML v1.0//EN
CALSCALE:GREGORIAN
METHOD:PUBLISH
X-WR-CALNAME:Alles is gezondheid
X-ORIGINAL-URL:https://www.allesisgezondheid.nl
X-WR-CALDESC:Evenementen voor Alles is gezondheid
BEGIN:VTIMEZONE
TZID:Europe/Amsterdam
BEGIN:DAYLIGHT
TZOFFSETFROM:+0100
TZOFFSETTO:+0200
TZNAME:CEST
DTSTART:20240331T010000
END:DAYLIGHT
BEGIN:STANDARD
TZOFFSETFROM:+0200
TZOFFSETTO:+0100
TZNAME:CET
DTSTART:20241027T010000
END:STANDARD
END:VTIMEZONE
BEGIN:VEVENT
DTSTART;TZID=Europe/Amsterdam:20240605T140000
DTEND;TZID=Europe/Amsterdam:20240605T170000
DTSTAMP:20260425T231932
CREATED:20240425T131401Z
LAST-MODIFIED:20240529T133422Z
UID:6713289-1717596000-1717606800@www.allesisgezondheid.nl
SUMMARY:Missie Mentaal: Doe-tank | expliciete aandacht voor mentale gezondheid in het onderwijs
DESCRIPTION:In de Nederlandse Week van de Mentale Gezondheid nodigt Missie Mentaal en Psychologie in het Onderwijs jou uit voor een werksessie over mentale gezondheid in het onderwijs op woensdag 5 juni 2024 in Utrecht. \nAfgelopen jaren zijn er steeds meer initiatieven\, partijen en organisaties gekomen die preventief werken aan mentaal welbevinden in het onderwijs. In welke vorm dan ook. Van interventie tot integrale aanpak. \nOverwinnen met elkaar\nAlleen ligt het concurrentie-denken op de loer. Terwijl de maatschappelijke uitdaging\, een mentaal gezonde generatie\, juist vraagt om samenwerking. Het gaat niet om winnen van elkaar\, maar om overwinnen met elkaar. \nSamen meer doen\nMet de werksessie willen we pioniers die al actief zijn op het gebied van mentaal welzijn en onderwijs met elkaar verbinden. Van school tot sociale onderneming en ondersteunende partij. \nWe gaan verkennen hoe we samen meer voor elkaar kunnen krijgen i.p.v. allemaal apart. Doen staat centraal. Simpelweg omdat er al genoeg gepraat wordt. Waar kan je aan denken? Kunnen we: \n\nWerken aan structurele gelden voor mentale gezondheid in het onderwijs?\nEen platform bouwen waar alle betrokken partijen op te vinden zijn?\nEen gezamenlijke boodschap richting de politiek formuleren?\n\nOp 5 juni zetten we de eerste stap met geïnteresseerde organisaties binnen en rond het onderwijs. In het najaar willen we een gezamenlijk evenement mét het onderwijs organiseren. \nProgramma\n\nOpening dagvoorzitter: Wessel Kok (Adviseur Onderwijsinnovatie bij Kennisland)\nPanelgesprek: Waarom maatschappelijke uitdagingen juist geen concurrentie nodig hebben maar samenwerking. Met Ellen Wolters en  Dominique Warmerdam (Psychologie in het Onderwijs) en Wico Mulder en Wilfred Dijkstra (Alles is Gezondheid).\nWorkshop: Social Design: Ontwerpen van een systeemdoorbraak voor meer socio-emotionele ontwikkeling op school\, Met Mayra Kapteijn en Noortje Habets (Social Designers bij Het Verbond). Inhoud:\n\nIntroductie Social Design\nAan de slag met formuleren van mission statement\nInteractieve werkvorm: wat we concreet kunnen doen met alle partijen \n\n\n\nBen je erbij?\nMeld je hier aan. Deelname is gratis. Na aanmelding rekenen we op je komst. Het programma duurt van 14.00-17.00 uur. Voel je vrij deze uitnodigen te delen met een collega\, relatie of vakgenoot. \nLocatie\n\nDe Zalen van Zeven\nBoothstraat 7\nUtrecht.\nRoute Boothstraat Utrecht (12 minuten lopen vanaf Utrecht CS). \nMissie Mentaal\nMet ondersteuning van VWS zet Alles is Gezondheid zich in om mentale gezondheid in Nederland te verbeteren. Onder de noemer Missie Mentaal gaan we de beweging duiden\, aanjagen en verder versterken. Dit doen we door actieve organisaties\, mensen en initiatieven samen te brengen\, inzichten en (praktijk)voorbeelden te delen en activiteiten te organiseren. \nWeek van de Mentale Gezondheid\nDe komende jaren organiseert VWS voortaan in de eerste week van juni de Week van de Mentale Gezondheid. Dit omdat de European Mental Health Week in mei telkens op een andere datum plaatsvindt en pas relatief laat bekend wordt. In 2024 is de Nederlandse Week van de Mentale Gezondheid van 3 t/m 8 juni. \nExtra!\nOp 4 juni organiseert Young Impact de Impact Night. Een evenement in Ahoy waar naast veel jongeren ook docenten aanwezig zijn om ze te bedanken voor hun inzet en de door hen gerealiseerde impact. Deze avond zullen we bij docenten informatie ophalen\, waar we op woensdag 5 juni gebruik van maken. Voor de eerste 30 aanmeldingen hebben we een vrijkaart voor de Impact Night beschikbaar (= vol). \nOm over na te denken \n\nWat is jouw grootste uitdaging als organisatie?\nWaar loop je tegenaan in de uitvoering?\nWelke ervaring wil jij delen met anderen?\n\nDeel je antwoorden gerust vooraf met wilfred.dijkstra@allesisgezondheid.nl
URL:https://www.allesisgezondheid.nl/evenementen/missie-mentaal-doe-tank-expliciete-aandacht-voor-mentale-gezondheid-in-het-onderwijs/
LOCATION:De Zalen van Zeven\, Boothstraat 7\, Utrecht\, Utrecht\, 3512 BT
CATEGORIES:Buiten
ATTACH;FMTTYPE=image/jpeg:https://www.allesisgezondheid.nl/wp-content/uploads/2024/04/op-een-muurtje.jpg
END:VEVENT
END:VCALENDAR